BEGIN:VCALENDAR
VERSION:2.0
PRODID:-//IAGD Masjid - ECPv6.15.20//NONSGML v1.0//EN
CALSCALE:GREGORIAN
METHOD:PUBLISH
X-WR-CALNAME:IAGD Masjid
X-ORIGINAL-URL:https://iagd.net
X-WR-CALDESC:Events for IAGD Masjid
REFRESH-INTERVAL;VALUE=DURATION:PT1H
X-Robots-Tag:noindex
X-PUBLISHED-TTL:PT1H
BEGIN:VTIMEZONE
TZID:America/Detroit
BEGIN:DAYLIGHT
TZOFFSETFROM:-0500
TZOFFSETTO:-0400
TZNAME:EDT
DTSTART:20250309T070000
END:DAYLIGHT
BEGIN:STANDARD
TZOFFSETFROM:-0400
TZOFFSETTO:-0500
TZNAME:EST
DTSTART:20251102T060000
END:STANDARD
BEGIN:DAYLIGHT
TZOFFSETFROM:-0500
TZOFFSETTO:-0400
TZNAME:EDT
DTSTART:20260308T070000
END:DAYLIGHT
BEGIN:STANDARD
TZOFFSETFROM:-0400
TZOFFSETTO:-0500
TZNAME:EST
DTSTART:20261101T060000
END:STANDARD
BEGIN:DAYLIGHT
TZOFFSETFROM:-0500
TZOFFSETTO:-0400
TZNAME:EDT
DTSTART:20270314T070000
END:DAYLIGHT
BEGIN:STANDARD
TZOFFSETFROM:-0400
TZOFFSETTO:-0500
TZNAME:EST
DTSTART:20271107T060000
END:STANDARD
END:VTIMEZONE
BEGIN:VEVENT
DTSTART;VALUE=DATE:20260417
DTEND;VALUE=DATE:20260427
DTSTAMP:20260421T022239
CREATED:20260311T040722Z
LAST-MODIFIED:20260410T202307Z
UID:10001823-1776384000-1777247999@iagd.net
SUMMARY:Community Sports Tournament - CST
DESCRIPTION:Community Sports Tournament at IAGD! \nJoin us for an exciting tournament featuring cricket\, basketball\, volleyball\, badminton\, pickleball\, carrom board\, and table tennis. Players of all ages are welcome — bring your competitive spirit and be part of the action! \nRegister today and compete for gold\, silver\, and bronze medals.
URL:https://iagd.net/event/community-sports-tournament-cst/
ATTACH;FMTTYPE=image/jpeg:https://iagd.net/wp-content/uploads/2026/03/Image_20260306_063258_780.jpeg
END:VEVENT
BEGIN:VEVENT
DTSTART;TZID=America/Detroit:20260421T200000
DTEND;TZID=America/Detroit:20260421T210000
DTSTAMP:20260421T022239
CREATED:20250530T154231Z
LAST-MODIFIED:20260410T202644Z
UID:10000905-1776801600-1776805200@iagd.net
SUMMARY:Arabic Class | Mufti Rabbani
DESCRIPTION:This class occurs 1 hour before magrib salah
URL:https://iagd.net/event/arabic-class-mufti-rabbani/2026-04-21/
ATTACH;FMTTYPE=image/png:https://iagd.net/wp-content/uploads/2025/05/Untitled-design-2.png
END:VEVENT
BEGIN:VEVENT
DTSTART;TZID=America/Detroit:20260421T210000
DTEND;TZID=America/Detroit:20260421T220000
DTSTAMP:20260421T022239
CREATED:20250724T173707Z
LAST-MODIFIED:20260410T202920Z
UID:10001496-1776805200-1776808800@iagd.net
SUMMARY:Tuesday English Tafsir w/ Dr. Zulfiqar
DESCRIPTION:
URL:https://iagd.net/event/friday-english-tafsir-w-dr-zulfiqar/2026-04-21/
ATTACH;FMTTYPE=image/jpeg:https://iagd.net/wp-content/uploads/2026/01/WhatsApp-Image-2026-01-10-at-16.46.42.jpeg
END:VEVENT
END:VCALENDAR